Workbook

Sheet 組み合わせ
B1: 2026東北U-14選手権交流大会組合せ
A2: A | B2: 1番ピッチ | L2: B | M2: 3番ピッチ | X2: ※要項対戦表入力で予選,決勝リーグ 自動反映
B3: 1 | C3: 2 | D3: 3 | E3: 4 | F3: 勝点 | G3: 得点 | H3: 失点 | I3: 得失点 | J3: 順位 | M3: 1 | N3: 2 | O3: 3 | P3: 4 | Q3: 勝点 | R3: 得点 | S3: 失点 | T3: 得失点 | U3: 順位
B4: ⚽ | M4: ⚽ | X4: 大会名、ピッチ、チーム名 自動反映
C5: ⚽ | N5: ⚽
D6: ⚽ | O6: ⚽
E7: ⚽ | P7: ⚽
A8: C | B8: 4番ピッチ | L8: D | M8: 5番ピッチ
B9: 1 | C9: 2 | D9: 3 | E9: 4 | F9: 勝点 | G9: 得点 | H9: 失点 | I9: 得失点 | J9: 順位 | M9: 1 | N9: 2 | O9: 3 | P9: 4 | Q9: 勝点 | R9: 得点 | S9: 失点 | T9: 得失点 | U9: 順位
B10: ⚽ | M10: ⚽
C11: ⚽ | N11: ⚽
D12: ⚽ | O12: ⚽
E13: ⚽ | P13: ⚽
A15: 7月27日 日程 | D15: 7月28日 日程 | H15: 7月29日 日程
A16: TRM | D16: 0.375 | E16: １－ 4 | G16: 0.375 | I16: １－３
A17: 0.45833333 | B17: １－２ | D17: 0.42708333 | E17: 2 － 3 | G17: 0.42708333 | I17: ２－４
A18: 0.51041667 | B18: ３－４ | D18: TRM | G18: 0.5 | I18: １－ 4
A19: TRM | D19: 順位リーグ | G19: 0.55208333 | I19: 2 － 3
A20: 0.58333333 | B20: １－３ | D20: 0.54166667 | E20: １－２ | G20: TRM
A21: 0.63541667 | B21: ２－４ | D21: 0.59375 | E21: ３－４
A22: TRM | D22: TRM
A24: 1位リーグ | B24: 5番ピッチ | L24: 2位リーグ | M24: 4番ピッチ
B25: 1 | C25: 2 | D25: 3 | E25: 4 | F25: 勝点 | G25: 得点 | H25: 失点 | I25: 得失点 | J25: 順位 | M25: 1 | N25: 2 | O25: 3 | P25: 4 | Q25: 勝点 | R25: 得点 | S25: 失点 | T25: 得失点 | U25: 順位
A26: 1 A1 | B26: ⚽ | L26: 1 A2 | M26: ⚽
A27: 2 B1 | C27: ⚽ | L27: 2 B2 | N27: ⚽
A28: 3 C1 | D28: ⚽ | L28: 3 C2 | O28: ⚽
A29: 4 D1 | E29: ⚽ | L29: 4 D2 | P29: ⚽
A31: 3位リーグ | B31: 1番ピッチ | L31: 4位リーグ | M31: ３番ピッチ
B32: 1 | C32: 2 | D32: 3 | E32: 4 | F32: 勝点 | G32: 得点 | H32: 失点 | I32: 得失点 | J32: 順位 | M32: 1 | N32: 2 | O32: 3 | P32: 4 | Q32: 勝点 | R32: 得点 | S32: 失点 | T32: 得失点 | U32: 順位
A33: 1 A3 | B33: ⚽ | L33: 1 A4 | M33: ⚽
A34: 2 B3 | C34: ⚽ | L34: 2 B4 | N34: ⚽
A35: 3 C3 | D35: ⚽ | L35: 3 C4 | O35: ⚽
A36: 4 D3 | E36: ⚽ | L36: 4 D4 | P36: ⚽
C38: 最終結果
B39: 優勝 | F39: RENUOVENS OGASA FOOTBALLCLUN
B40: 準優勝 | F40: 八戸FC
B41: 第3位 | F41: MIRUMAE.FC
B42: 第4位 | F42: ASP

Sheet 予選リーグ
BC1: 大会名
B3: =BC3 -> 2026東北U-14選手権交流大会組合せ | BC3: =組み合わせ!B1 -> 2026東北U-14選手権交流大会組合せ
B4: =組み合わせ!B2 -> 1番ピッチ | BC4: チーム名
B5: グループA | J5: =C7 -> 0 | P5: =I7 -> 0 | V5: =C11 -> 0 | AB5: =C13 -> 0 | AH5: 勝 | AJ5: 分 | AL5: 負 | AN5: 勝ち点 | AQ5: 得点 | AS5: 失点 | AU5: 差 | AW5: 順位 | BC5: グループA | BO5: グループB
BC6: =組み合わせ!A4 -> 0 | BO6: =組み合わせ!L4 -> 0
B7: 1 | C7: =BC6 -> 0 | R7: - | AD7: - | AH7: =COUNTIF(P8:AG8,"○") -> 0 | AJ7: =COUNTIF(P8:AG8,"△") -> 0 | AL7: =COUNTIF(J8:AG8,"●") -> 0 | AN7: =AH7*3+AJ7*1 -> 0 | AQ7: =SUM(P7,V7,AB7) -> 0 | AS7: =SUM(T7,Z7,AF7) -> 0 | AU7: =AQ7-AS7 -> 0 | AW7: =IF(AZ7=0,"",_xlfn.RANK.EQ(AZ7,$AZ$7:$AZ$14,0)) | AZ7: =AN7*100+AU7*10+AQ7*1 -> 0 | BC7: =組み合わせ!A5 -> 0 | BO7: =組み合わせ!L5 -> 0
P8: =IF(P7="","",CHOOSE(2+(P7>T7)-(P7<T7),"●","△","○")) | V8: =IF(V7="","",CHOOSE(2+(V7>Z7)-(V7<Z7),"●","△","○")) | AB8: =IF(AB7="","",CHOOSE(2+(AB7>AF7)-(AB7<AF7),"●","△","○")) | BC8: =組み合わせ!A6 -> 0 | BO8: =組み合わせ!L6 -> 0
B9: 2 | C9: =BC7 -> 0 | J9: 3 | L9: - | N9: 0 | X9: - | AD9: - | AH9: =COUNTIF(J10:AG10,"○") -> 1 | AJ9: =COUNTIF(J10:AG10,"△") -> 0 | AL9: =COUNTIF(J10:AG10,"●") -> 0 | AN9: =AH9*3+AJ9*1 -> 3 | AQ9: =SUM(J9,V9,AB9) -> 3 | AS9: =SUM(N9,Z9,AF9) -> 0 | AU9: =AQ9-AS9 -> 3 | AW9: =IF(AZ9=0,"",_xlfn.RANK.EQ(AZ9,$AZ$7:$AZ$14,0)) -> 2 | AZ9: =AN9*100+AU9*10+AQ9*1 -> 333 | BC9: =組み合わせ!A7 -> 0 | BO9: =組み合わせ!L7 -> 0
J10: =IF(J9="","",CHOOSE(2+(J9>N9)-(J9<N9),"●","△","○")) -> ○ | V10: =IF(V9="","",CHOOSE(2+(V9>Z9)-(V9<Z9),"●","△","○")) | AB10: =IF(AB9="","",CHOOSE(2+(AB9>AF9)-(AB9<AF9),"●","△","○")) | BC10: グループC | BO10: グループD
B11: 3 | C11: =BC8 -> 0 | J11: =IF(Z7="","",Z7) | L11: - | N11: =IF(V7="","",V7) | P11: =IF(Z9="","",Z9) | R11: - | T11: =IF(V9="","",V9) | AD11: - | AH11: =COUNTIF(J12:AG12,"○") -> 0 | AJ11: =COUNTIF(J12:AG12,"△") -> 0 | AL11: =COUNTIF(J12:AG12,"●") -> 0 | AN11: =AH11*3+AJ11*1 -> 0 | AQ11: =SUM(P11,J11,AB11) -> 0 | AS11: =SUM(T11,N11,AF11) -> 0 | AU11: =AQ11-AS11 -> 0 | AW11: =IF(AZ11=0,"",_xlfn.RANK.EQ(AZ11,$AZ$7:$AZ$14,0)) | AZ11: =AN11*100+AU11*10+AQ11*1 -> 0 | BC11: =組み合わせ!A10 -> 0 | BO11: =組み合わせ!L10 -> 0
J12: =IF(J11="","",CHOOSE(2+(J11>N11)-(J11<N11),"●","△","○")) | P12: =IF(P11="","",CHOOSE(2+(P11>T11)-(P11<T11),"●","△","○")) | AB12: =IF(AB11="","",CHOOSE(2+(AB11>AF11)-(AB11<AF11),"●","△","○")) | BC12: =組み合わせ!A11 -> 0 | BO12: =組み合わせ!L11 -> 0
B13: 4 | C13: =BC9 -> 0 | J13: =IF(AF7="","",AF7) | L13: - | N13: =IF(AB7="","",AB7) | P13: =IF(AF9="","",AF9) | R13: - | T13: =IF(AB9="","",AB9) | V13: 7 | X13: - | Z13: 1 | AH13: =COUNTIF(J14:AG14,"○") -> 1 | AJ13: =COUNTIF(J14:AG14,"△") -> 0 | AL13: =COUNTIF(J14:AG14,"●") -> 0 | AN13: =AH13*3+AJ13*1 -> 3 | AQ13: =SUM(P13,V13,J13) -> 7 | AS13: =SUM(T13,Z13,N13) -> 1 | AU13: =AQ13-AS13 -> 6 | AW13: =IF(AZ13=0,"",_xlfn.RANK.EQ(AZ13,$AZ$7:$AZ$14,0)) -> 1 | AZ13: =AN13*100+AU13*10+AQ13*1 -> 367 | BC13: =組み合わせ!A12 -> 0 | BO13: =組み合わせ!L12 -> 0
J14: =IF(J13="","",CHOOSE(2+(J13>N13)-(J13<N13),"●","△","○")) | P14: =IF(P13="","",CHOOSE(2+(P13>T13)-(P13<T13),"●","△","○")) | V14: =IF(V13="","",CHOOSE(2+(V13>Z13)-(V13<Z13),"●","△","○")) -> ○ | BC14: =組み合わせ!A13 -> 0 | BO14: =組み合わせ!L13 -> 0
BC15: ↑ ※要項から自動反映
B16: =組み合わせ!M2 -> 3番ピッチ | BC16: ← ※中央から上に結果入力
B17: グループB | J17: =C19 -> 0 | P17: =C21 -> 0 | V17: =C23 -> 0 | AB17: =C25 -> 0 | AH17: 勝 | AJ17: 分 | AL17: 負 | AN17: 勝ち点 | AQ17: 得点 | AS17: 失点 | AU17: 差 | AW17: 順位
B19: 1 | C19: =BO6 -> 0 | R19: - | X19: - | AD19: - | AH19: =COUNTIF(P20:AG20,"○") -> 0 | AJ19: =COUNTIF(P20:AG20,"△") -> 0 | AL19: =COUNTIF(J20:AG20,"●") -> 0 | AN19: =AH19*3+AJ19*1 -> 0 | AQ19: =SUM(P19,V19,AB19) -> 0 | AS19: =SUM(T19,Z19,AF19) -> 0 | AU19: =AQ19-AS19 -> 0 | AW19: =IF(AZ19=0,"",_xlfn.RANK.EQ(AZ19,$AZ$19:$AZ$26,0)) | AZ19: =AN19*100+AU19*10+AQ19*1 -> 0
P20: =IF(P19="","",CHOOSE(2+(P19>T19)-(P19<T19),"●","△","○")) | V20: =IF(V19="","",CHOOSE(2+(V19>Z19)-(V19<Z19),"●","△","○")) | AB20: =IF(AB19="","",CHOOSE(2+(AB19>AF19)-(AB19<AF19),"●","△","○"))
B21: 2 | C21: =BO7 -> 0 | J21: =IF(T19="","",T19) | L21: - | N21: =IF(P19="","",P19) | X21: - | AD21: - | AH21: =COUNTIF(J22:AG22,"○") -> 0 | AJ21: =COUNTIF(J22:AG22,"△") -> 0 | AL21: =COUNTIF(J22:AG22,"●") -> 0 | AN21: =AH21*3+AJ21*1 -> 0 | AQ21: =SUM(J21,V21,AB21) -> 0 | AS21: =SUM(N21,Z21,AF21) -> 0 | AU21: =AQ21-AS21 -> 0 | AW21: =IF(AZ21=0,"",_xlfn.RANK.EQ(AZ21,$AZ$19:$AZ$26,0)) | AZ21: =AN21*100+AU21*10+AQ21*1 -> 0
J22: =IF(J21="","",CHOOSE(2+(J21>N21)-(J21<N21),"●","△","○")) | V22: =IF(V21="","",CHOOSE(2+(V21>Z21)-(V21<Z21),"●","△","○")) | AB22: =IF(AB21="","",CHOOSE(2+(AB21>AF21)-(AB21<AF21),"●","△","○"))
B23: 3 | C23: =BO8 -> 0 | J23: =IF(Z19="","",Z19) | L23: - | N23: =IF(V19="","",V19) | P23: =IF(Z21="","",Z21) | R23: - | AD23: - | AH23: =COUNTIF(J24:AG24,"○") -> 0 | AJ23: =COUNTIF(J24:AG24,"△") -> 0 | AL23: =COUNTIF(J24:AG24,"●") -> 0 | AN23: =AH23*3+AJ23*1 -> 0 | AQ23: =SUM(P23,J23,AB23) -> 0 | AS23: =SUM(T23,N23,AF23) -> 0 | AU23: =AQ23-AS23 -> 0 | AW23: =IF(AZ23=0,"",_xlfn.RANK.EQ(AZ23,$AZ$19:$AZ$26,0)) | AZ23: =AN23*100+AU23*10+AQ23*1 -> 0
J24: =IF(J23="","",CHOOSE(2+(J23>N23)-(J23<N23),"●","△","○")) | P24: =IF(P23="","",CHOOSE(2+(P23>T23)-(P23<T23),"●","△","○")) | AB24: =IF(AB23="","",CHOOSE(2+(AB23>AF23)-(AB23<AF23),"●","△","○"))
B25: 4 | C25: =BO9 -> 0 | J25: =IF(AF19="","",AF19) | L25: - | N25: =IF(AB19="","",AB19) | P25: =IF(AF21="","",AF21) | R25: - | T25: =IF(AB21="","",AB21) | V25: =IF(AF23="","",AF23) | X25: - | Z25: =IF(AB23="","",AB23) | AH25: =COUNTIF(J26:AG26,"○") -> 0 | AJ25: =COUNTIF(J26:AG26,"△") -> 0 | AL25: =COUNTIF(J26:AG26,"●") -> 0 | AN25: =AH25*3+AJ25*1 -> 0 | AQ25: =SUM(P25,V25,J25) -> 0 | AS25: =SUM(T25,Z25,N25) -> 0 | AU25: =AQ25-AS25 -> 0 | AW25: =IF(AZ25=0,"",_xlfn.RANK.EQ(AZ25,$AZ$19:$AZ$26,0)) | AZ25: =AN25*100+AU25*10+AQ25*1 -> 0
J26: =IF(J25="","",CHOOSE(2+(J25>N25)-(J25<N25),"●","△","○")) | P26: =IF(P25="","",CHOOSE(2+(P25>T25)-(P25<T25),"●","△","○")) | V26: =IF(V25="","",CHOOSE(2+(V25>Z25)-(V25<Z25),"●","△","○"))
B28: =組み合わせ!B8 -> 4番ピッチ
B29: グループC | J29: =C31 -> 0 | P29: =C33 -> 0 | V29: =C35 -> 0 | AB29: =C37 -> 0 | AH29: 勝 | AJ29: 分 | AL29: 負 | AN29: 勝ち点 | AQ29: 得点 | AS29: 失点 | AU29: 差 | AW29: 順位
B31: 1 | C31: =BC11 -> 0 | R31: - | X31: - | AD31: - | AH31: =COUNTIF(P32:AG32,"○") -> 0 | AJ31: =COUNTIF(P32:AG32,"△") -> 0 | AL31: =COUNTIF(J32:AG32,"●") -> 0 | AN31: =AH31*3+AJ31*1 -> 0 | AQ31: =SUM(P31,V31,AB31) -> 0 | AS31: =SUM(T31,Z31,AF31) -> 0 | AU31: =AQ31-AS31 -> 0 | AW31: =IF(AZ31=0,"",_xlfn.RANK.EQ(AZ31,$AZ$31:$AZ$38,0)) | AZ31: =AN31*100+AU31*10+AQ31*1 -> 0
P32: =IF(P31="","",CHOOSE(2+(P31>T31)-(P31<T31),"●","△","○")) | V32: =IF(V31="","",CHOOSE(2+(V31>Z31)-(V31<Z31),"●","△","○")) | AB32: =IF(AB31="","",CHOOSE(2+(AB31>AF31)-(AB31<AF31),"●","△","○"))
B33: 2 | C33: =BC12 -> 0 | J33: =IF(T31="","",T31) | L33: - | N33: =IF(P31="","",P31) | X33: - | AD33: - | AH33: =COUNTIF(J34:AG34,"○") -> 0 | AJ33: =COUNTIF(J34:AG34,"△") -> 0 | AL33: =COUNTIF(J34:AG34,"●") -> 0 | AN33: =AH33*3+AJ33*1 -> 0 | AQ33: =SUM(J33,V33,AB33) -> 0 | AS33: =SUM(N33,Z33,AF33) -> 0 | AU33: =AQ33-AS33 -> 0 | AW33: =IF(AZ33=0,"",_xlfn.RANK.EQ(AZ33,$AZ$31:$AZ$38,0)) | AZ33: =AN33*100+AU33*10+AQ33*1 -> 0
J34: =IF(J33="","",CHOOSE(2+(J33>N33)-(J33<N33),"●","△","○")) | V34: =IF(V33="","",CHOOSE(2+(V33>Z33)-(V33<Z33),"●","△","○")) | AB34: =IF(AB33="","",CHOOSE(2+(AB33>AF33)-(AB33<AF33),"●","△","○"))
B35: 3 | C35: =BC13 -> 0 | J35: =IF(Z31="","",Z31) | L35: - | N35: =IF(V31="","",V31) | P35: =IF(Z33="","",Z33) | R35: - | T35: =IF(V33="","",V33) | AD35: - | AH35: =COUNTIF(J36:AG36,"○") -> 0 | AJ35: =COUNTIF(J36:AG36,"△") -> 0 | AL35: =COUNTIF(J36:AG36,"●") -> 0 | AN35: =AH35*3+AJ35*1 -> 0 | AQ35: =SUM(P35,J35,AB35) -> 0 | AS35: =SUM(T35,N35,AF35) -> 0 | AU35: =AQ35-AS35 -> 0 | AW35: =IF(AZ35=0,"",_xlfn.RANK.EQ(AZ35,$AZ$31:$AZ$38,0)) | AZ35: =AN35*100+AU35*10+AQ35*1 -> 0
J36: =IF(J35="","",CHOOSE(2+(J35>N35)-(J35<N35),"●","△","○")) | P36: =IF(P35="","",CHOOSE(2+(P35>T35)-(P35<T35),"●","△","○")) | AB36: =IF(AB35="","",CHOOSE(2+(AB35>AF35)-(AB35<AF35),"●","△","○"))
B37: 4 | C37: =BC14 -> 0 | J37: =IF(AF31="","",AF31) | L37: - | N37: =IF(AB31="","",AB31) | P37: =IF(AF33="","",AF33) | R37: - | T37: =IF(AB33="","",AB33) | V37: =IF(AF35="","",AF35) | X37: - | Z37: =IF(AB35="","",AB35) | AH37: =COUNTIF(J38:AG38,"○") -> 0 | AJ37: =COUNTIF(J38:AG38,"△") -> 0 | AL37: =COUNTIF(J38:AG38,"●") -> 0 | AN37: =AH37*3+AJ37*1 -> 0 | AQ37: =SUM(P37,V37,J37) -> 0 | AS37: =SUM(T37,Z37,N37) -> 0 | AU37: =AQ37-AS37 -> 0 | AW37: =IF(AZ37=0,"",_xlfn.RANK.EQ(AZ37,$AZ$31:$AZ$38,0)) | AZ37: =AN37*100+AU37*10+AQ37*1 -> 0
J38: =IF(J37="","",CHOOSE(2+(J37>N37)-(J37<N37),"●","△","○")) | P38: =IF(P37="","",CHOOSE(2+(P37>T37)-(P37<T37),"●","△","○")) | V38: =IF(V37="","",CHOOSE(2+(V37>Z37)-(V37<Z37),"●","△","○"))
B40: =組み合わせ!M8 -> 5番ピッチ
B41: グループD | J41: =C43 -> 0 | P41: =C45 -> 0 | V41: =C47 -> 0 | AB41: =C49 -> 0 | AH41: 勝 | AJ41: 分 | AL41: 負 | AN41: 勝ち点 | AQ41: 得点 | AS41: 失点 | AU41: 差 | AW41: 順位
B43: 1 | C43: =BO11 -> 0 | R43: - | X43: - | AD43: - | AH43: =COUNTIF(P44:AG44,"○") -> 0 | AJ43: =COUNTIF(P44:AG44,"△") -> 0 | AL43: =COUNTIF(J44:AG44,"●") -> 0 | AN43: =AH43*3+AJ43*1 -> 0 | AQ43: =SUM(P43,V43,AB43) -> 0 | AS43: =SUM(T43,Z43,AF43) -> 0 | AU43: =AQ43-AS43 -> 0 | AW43: =IF(AZ43=0,"",_xlfn.RANK.EQ(AZ43,$AZ$43:$AZ$50,0)) | AZ43: =AN43*100+AU43*10+AQ43*1 -> 0
P44: =IF(P43="","",CHOOSE(2+(P43>T43)-(P43<T43),"●","△","○")) | V44: =IF(V43="","",CHOOSE(2+(V43>Z43)-(V43<Z43),"●","△","○")) | AB44: =IF(AB43="","",CHOOSE(2+(AB43>AF43)-(AB43<AF43),"●","△","○"))
B45: 2 | C45: =BO12 -> 0 | J45: =IF(T43="","",T43) | L45: - | N45: =IF(P43="","",P43) | X45: - | AD45: - | AH45: =COUNTIF(J46:AG46,"○") -> 0 | AJ45: =COUNTIF(J46:AG46,"△") -> 0 | AL45: =COUNTIF(J46:AG46,"●") -> 0 | AN45: =AH45*3+AJ45*1 -> 0 | AQ45: =SUM(J45,V45,AB45) -> 0 | AS45: =SUM(N45,Z45,AF45) -> 0 | AU45: =AQ45-AS45 -> 0 | AW45: =IF(AZ45=0,"",_xlfn.RANK.EQ(AZ45,$AZ$43:$AZ$50,0)) | AZ45: =AN45*100+AU45*10+AQ45*1 -> 0
J46: =IF(J45="","",CHOOSE(2+(J45>N45)-(J45<N45),"●","△","○")) | V46: =IF(V45="","",CHOOSE(2+(V45>Z45)-(V45<Z45),"●","△","○")) | AB46: =IF(AB45="","",CHOOSE(2+(AB45>AF45)-(AB45<AF45),"●","△","○"))
...

Sheet 順位リーグ
BC1: 大会名
B3: =BC3 -> 2026東北U-14選手権交流大会組合せ | BC3: =組み合わせ!B1 -> 2026東北U-14選手権交流大会組合せ
B4: =組み合わせ!B24 -> 5番ピッチ | BC4: チーム名 入力
B5: =BC5 -> 1位リーグ | AH5: 勝 | AJ5: 分 | AL5: 負 | AN5: 勝ち点 | AQ5: 得点 | AS5: 失点 | AU5: 差 | AW5: 順位 | BC5: 1位リーグ | BO5: 2位リーグ
BC6: =組み合わせ!A26 -> 1 A1 | BO6: =組み合わせ!L26 -> 1 A2
B7: 1 | P7: 2 | R7: - | T7: 1 | V7: 2 | X7: - | Z7: 0 | AB7: 0 | AD7: - | AF7: 1 | AH7: =COUNTIF(P8:AG8,"○") -> 2 | AJ7: =COUNTIF(P8:AG8,"△") -> 0 | AL7: =COUNTIF(J8:AG8,"●") -> 1 | AN7: =AH7*3+AJ7*1 -> 6 | AQ7: =SUM(P7,V7,AB7) -> 4 | AS7: =SUM(T7,Z7,AF7) -> 2 | AU7: =AQ7-AS7 -> 2 | AW7: =IF(AZ7=0,"",_xlfn.RANK.EQ(AZ7,$AZ$7:$AZ$14,0)) -> 2 | AZ7: =AN7*100+AU7*10+AQ7*1 -> 624 | BC7: =組み合わせ!A27 -> 2 B1 | BO7: =組み合わせ!L27 -> 2 B2
P8: =IF(P7="","",CHOOSE(2+(P7>T7)-(P7<T7),"●","△","○")) -> ○ | V8: =IF(V7="","",CHOOSE(2+(V7>Z7)-(V7<Z7),"●","△","○")) -> ○ | AB8: =IF(AB7="","",CHOOSE(2+(AB7>AF7)-(AB7<AF7),"●","△","○")) -> ● | BC8: =組み合わせ!A28 -> 3 C1 | BO8: =組み合わせ!L28 -> 3 C2
B9: 2 | J9: =IF(T7="","",T7) -> 1 | L9: - | N9: =IF(P7="","",P7) -> 2 | V9: 5 | X9: - | Z9: 0 | AB9: 1 | AD9: - | AF9: 1 | AH9: =COUNTIF(J10:AG10,"○") -> 1 | AJ9: =COUNTIF(J10:AG10,"△") -> 1 | AL9: =COUNTIF(J10:AG10,"●") -> 1 | AN9: =AH9*3+AJ9*1 -> 4 | AQ9: =SUM(J9,V9,AB9) -> 7 | AS9: =SUM(N9,Z9,AF9) -> 3 | AU9: =AQ9-AS9 -> 4 | AW9: =IF(AZ9=0,"",_xlfn.RANK.EQ(AZ9,$AZ$7:$AZ$14,0)) -> 3 | AZ9: =AN9*100+AU9*10+AQ9*1 -> 447 | BC9: =組み合わせ!A29 -> 4 D1 | BO9: =組み合わせ!L29 -> 4 D2
J10: =IF(J9="","",CHOOSE(2+(J9>N9)-(J9<N9),"●","△","○")) -> ● | V10: =IF(V9="","",CHOOSE(2+(V9>Z9)-(V9<Z9),"●","△","○")) -> ○ | AB10: =IF(AB9="","",CHOOSE(2+(AB9>AF9)-(AB9<AF9),"●","△","○")) -> △ | BC10: 3位リーグ | BO10: 4位リーグ
B11: 3 | C11: =V5 -> 0 | J11: =IF(Z7="","",Z7) -> 0 | L11: - | N11: =IF(V7="","",V7) -> 2 | P11: =IF(Z9="","",Z9) -> 0 | R11: - | T11: =IF(V9="","",V9) -> 5 | AB11: 0 | AD11: - | AF11: 2 | AH11: =COUNTIF(J12:AG12,"○") -> 0 | AJ11: =COUNTIF(J12:AG12,"△") -> 0 | AL11: =COUNTIF(J12:AG12,"●") -> 3 | AN11: =AH11*3+AJ11*1 -> 0 | AQ11: =SUM(P11,J11,AB11) -> 0 | AS11: =SUM(T11,N11,AF11) -> 9 | AU11: =AQ11-AS11 -> -9 | AW11: =IF(AZ11=0,"",_xlfn.RANK.EQ(AZ11,$AZ$7:$AZ$14,0)) -> 4 | AZ11: =AN11*100+AU11*10+AQ11*1 -> -90 | BC11: =組み合わせ!A33 -> 1 A3 | BO11: =組み合わせ!L33 -> 1 A4
J12: =IF(J11="","",CHOOSE(2+(J11>N11)-(J11<N11),"●","△","○")) -> ● | P12: =IF(P11="","",CHOOSE(2+(P11>T11)-(P11<T11),"●","△","○")) -> ● | AB12: =IF(AB11="","",CHOOSE(2+(AB11>AF11)-(AB11<AF11),"●","△","○")) -> ● | BC12: =組み合わせ!A34 -> 2 B3 | BO12: =組み合わせ!L34 -> 2 B4
B13: 4 | C13: =AB5 -> 0 | J13: =IF(AF7="","",AF7) -> 1 | L13: - | N13: =IF(AB7="","",AB7) -> 0 | P13: =IF(AF9="","",AF9) -> 1 | R13: - | T13: =IF(AB9="","",AB9) -> 1 | V13: =IF(AF11="","",AF11) -> 2 | X13: - | Z13: =IF(AB11="","",AB11) -> 0 | AH13: =COUNTIF(J14:AG14,"○") -> 2 | AJ13: =COUNTIF(J14:AG14,"△") -> 1 | AL13: =COUNTIF(J14:AG14,"●") -> 0 | AN13: =AH13*3+AJ13*1 -> 7 | AQ13: =SUM(P13,V13,J13) -> 4 | AS13: =SUM(T13,Z13,N13) -> 1 | AU13: =AQ13-AS13 -> 3 | AW13: =IF(AZ13=0,"",_xlfn.RANK.EQ(AZ13,$AZ$7:$AZ$14,0)) -> 1 | AZ13: =AN13*100+AU13*10+AQ13*1 -> 734 | BC13: =組み合わせ!A35 -> 3 C3 | BO13: =組み合わせ!L35 -> 3 C4
J14: =IF(J13="","",CHOOSE(2+(J13>N13)-(J13<N13),"●","△","○")) -> ○ | P14: =IF(P13="","",CHOOSE(2+(P13>T13)-(P13<T13),"●","△","○")) -> △ | V14: =IF(V13="","",CHOOSE(2+(V13>Z13)-(V13<Z13),"●","△","○")) -> ○ | BC14: =組み合わせ!A36 -> 4 D3 | BO14: =組み合わせ!L36 -> 4 D4
BC15: ↑ ※要項から自動反映
B16: =組み合わせ!M24 -> 4番ピッチ | BC16: ← ※中央から上に結果入力
B17: =BO5 -> 2位リーグ | AH17: 勝 | AJ17: 分 | AL17: 負 | AN17: 勝ち点 | AQ17: 得点 | AS17: 失点 | AU17: 差 | AW17: 順位
B19: 1 | C19: =J17 -> 0 | P19: 3 | R19: - | T19: 0 | V19: 1 | X19: - | Z19: 0 | AB19: 0 | AD19: - | AF19: 1 | AH19: =COUNTIF(P20:AG20,"○") -> 2 | AJ19: =COUNTIF(P20:AG20,"△") -> 0 | AL19: =COUNTIF(J20:AG20,"●") -> 1 | AN19: =AH19*3+AJ19*1 -> 6 | AQ19: =SUM(P19,V19,AB19) -> 4 | AS19: =SUM(T19,Z19,AF19) -> 1 | AU19: =AQ19-AS19 -> 3 | AW19: =IF(AZ19=0,"",_xlfn.RANK.EQ(AZ19,$AZ$19:$AZ$26,0)) -> 1 | AZ19: =AN19*100+AU19*10+AQ19*1 -> 634
P20: =IF(P19="","",CHOOSE(2+(P19>T19)-(P19<T19),"●","△","○")) -> ○ | V20: =IF(V19="","",CHOOSE(2+(V19>Z19)-(V19<Z19),"●","△","○")) -> ○ | AB20: =IF(AB19="","",CHOOSE(2+(AB19>AF19)-(AB19<AF19),"●","△","○")) -> ●
B21: 2 | C21: =P17 -> 0 | J21: =IF(T19="","",T19) -> 0 | L21: - | N21: =IF(P19="","",P19) -> 3 | V21: 2 | X21: - | Z21: 1 | AB21: 0 | AD21: - | AF21: 1 | AH21: =COUNTIF(J22:AG22,"○") -> 1 | AJ21: =COUNTIF(J22:AG22,"△") -> 0 | AL21: =COUNTIF(J22:AG22,"●") -> 2 | AN21: =AH21*3+AJ21*1 -> 3 | AQ21: =SUM(J21,V21,AB21) -> 2 | AS21: =SUM(N21,Z21,AF21) -> 5 | AU21: =AQ21-AS21 -> -3 | AW21: =IF(AZ21=0,"",_xlfn.RANK.EQ(AZ21,$AZ$19:$AZ$26,0)) -> 4 | AZ21: =AN21*100+AU21*10+AQ21*1 -> 272
J22: =IF(J21="","",CHOOSE(2+(J21>N21)-(J21<N21),"●","△","○")) -> ● | V22: =IF(V21="","",CHOOSE(2+(V21>Z21)-(V21<Z21),"●","△","○")) -> ○ | AB22: =IF(AB21="","",CHOOSE(2+(AB21>AF21)-(AB21<AF21),"●","△","○")) -> ●
B23: 3 | C23: =V17 -> 0 | J23: =IF(Z19="","",Z19) -> 0 | L23: - | N23: =IF(V19="","",V19) -> 1 | P23: =IF(Z21="","",Z21) -> 1 | R23: - | T23: =IF(V21="","",V21) -> 2 | AB23: 1 | AD23: - | AF23: 0 | AH23: =COUNTIF(J24:AG24,"○") -> 1 | AJ23: =COUNTIF(J24:AG24,"△") -> 0 | AL23: =COUNTIF(J24:AG24,"●") -> 2 | AN23: =AH23*3+AJ23*1 -> 3 | AQ23: =SUM(P23,J23,AB23) -> 2 | AS23: =SUM(T23,N23,AF23) -> 3 | AU23: =AQ23-AS23 -> -1 | AW23: =IF(AZ23=0,"",_xlfn.RANK.EQ(AZ23,$AZ$19:$AZ$26,0)) -> 3 | AZ23: =AN23*100+AU23*10+AQ23*1 -> 292
J24: =IF(J23="","",CHOOSE(2+(J23>N23)-(J23<N23),"●","△","○")) -> ● | P24: =IF(P23="","",CHOOSE(2+(P23>T23)-(P23<T23),"●","△","○")) -> ● | AB24: =IF(AB23="","",CHOOSE(2+(AB23>AF23)-(AB23<AF23),"●","△","○")) -> ○
B25: 4 | C25: =AB17 -> 0 | J25: =IF(AF19="","",AF19) -> 1 | L25: - | N25: =IF(AB19="","",AB19) -> 0 | P25: =IF(AF21="","",AF21) -> 1 | R25: - | T25: =IF(AB21="","",AB21) -> 0 | V25: =IF(AF23="","",AF23) -> 0 | X25: - | Z25: =IF(AB23="","",AB23) -> 1 | AH25: =COUNTIF(J26:AG26,"○") -> 2 | AJ25: =COUNTIF(J26:AG26,"△") -> 0 | AL25: =COUNTIF(J26:AG26,"●") -> 1 | AN25: =AH25*3+AJ25*1 -> 6 | AQ25: =SUM(P25,V25,J25) -> 2 | AS25: =SUM(T25,Z25,N25) -> 1 | AU25: =AQ25-AS25 -> 1 | AW25: =IF(AZ25=0,"",_xlfn.RANK.EQ(AZ25,$AZ$19:$AZ$26,0)) -> 2 | AZ25: =AN25*100+AU25*10+AQ25*1 -> 612
J26: =IF(J25="","",CHOOSE(2+(J25>N25)-(J25<N25),"●","△","○")) -> ○ | P26: =IF(P25="","",CHOOSE(2+(P25>T25)-(P25<T25),"●","△","○")) -> ○ | V26: =IF(V25="","",CHOOSE(2+(V25>Z25)-(V25<Z25),"●","△","○")) -> ●
B28: =組み合わせ!B31 -> 1番ピッチ
B29: =BC10 -> 3位リーグ | AH29: 勝 | AJ29: 分 | AL29: 負 | AN29: 勝ち点 | AQ29: 得点 | AS29: 失点 | AU29: 差 | AW29: 順位
B31: 1 | C31: =J29 -> 0 | R31: - | X31: - | AD31: - | AH31: =COUNTIF(P32:AG32,"○") -> 0 | AJ31: =COUNTIF(P32:AG32,"△") -> 0 | AL31: =COUNTIF(J32:AG32,"●") -> 0 | AN31: =AH31*3+AJ31*1 -> 0 | AQ31: =SUM(P31,V31,AB31) -> 0 | AS31: =SUM(T31,Z31,AF31) -> 0 | AU31: =AQ31-AS31 -> 0 | AW31: =IF(AZ31=0,"",_xlfn.RANK.EQ(AZ31,$AZ$31:$AZ$38,0)) | AZ31: =AN31*100+AU31*10+AQ31*1 -> 0
V32: =IF(V31="","",CHOOSE(2+(V31>Z31)-(V31<Z31),"●","△","○")) | AB32: =IF(AB31="","",CHOOSE(2+(AB31>AF31)-(AB31<AF31),"●","△","○"))
B33: 2 | C33: =P29 -> 0 | J33: =IF(T31="","",T31) | L33: - | N33: =IF(P31="","",P31) | X33: - | AD33: - | AH33: =COUNTIF(J34:AG34,"○") -> 0 | AJ33: =COUNTIF(J34:AG34,"△") -> 0 | AL33: =COUNTIF(J34:AG34,"●") -> 0 | AN33: =AH33*3+AJ33*1 -> 0 | AQ33: =SUM(J33,V33,AB33) -> 0 | AS33: =SUM(N33,Z33,AF33) -> 0 | AU33: =AQ33-AS33 -> 0 | AW33: =IF(AZ33=0,"",_xlfn.RANK.EQ(AZ33,$AZ$31:$AZ$38,0)) | AZ33: =AN33*100+AU33*10+AQ33*1 -> 0
J34: =IF(J33="","",CHOOSE(2+(J33>N33)-(J33<N33),"●","△","○")) | V34: =IF(V33="","",CHOOSE(2+(V33>Z33)-(V33<Z33),"●","△","○")) | AB34: =IF(AB33="","",CHOOSE(2+(AB33>AF33)-(AB33<AF33),"●","△","○"))
B35: 3 | C35: =V29 -> 0 | J35: =IF(Z31="","",Z31) | L35: - | N35: =IF(V31="","",V31) | P35: =IF(Z33="","",Z33) | R35: - | T35: =IF(V33="","",V33) | AD35: - | AH35: =COUNTIF(J36:AG36,"○") -> 0 | AJ35: =COUNTIF(J36:AG36,"△") -> 0 | AL35: =COUNTIF(J36:AG36,"●") -> 0 | AN35: =AH35*3+AJ35*1 -> 0 | AQ35: =SUM(P35,J35,AB35) -> 0 | AS35: =SUM(T35,N35,AF35) -> 0 | AU35: =AQ35-AS35 -> 0 | AW35: =IF(AZ35=0,"",_xlfn.RANK.EQ(AZ35,$AZ$31:$AZ$38,0)) | AZ35: =AN35*100+AU35*10+AQ35*1 -> 0
J36: =IF(J35="","",CHOOSE(2+(J35>N35)-(J35<N35),"●","△","○")) | P36: =IF(P35="","",CHOOSE(2+(P35>T35)-(P35<T35),"●","△","○")) | AB36: =IF(AB35="","",CHOOSE(2+(AB35>AF35)-(AB35<AF35),"●","△","○"))
B37: 4 | C37: =AB29 -> 0 | J37: =IF(AF31="","",AF31) | L37: - | N37: =IF(AB31="","",AB31) | P37: =IF(AF33="","",AF33) | R37: - | T37: =IF(AB33="","",AB33) | V37: =IF(AF35="","",AF35) | X37: - | Z37: =IF(AB35="","",AB35) | AH37: =COUNTIF(J38:AG38,"○") -> 0 | AJ37: =COUNTIF(J38:AG38,"△") -> 0 | AL37: =COUNTIF(J38:AG38,"●") -> 0 | AN37: =AH37*3+AJ37*1 -> 0 | AQ37: =SUM(P37,V37,J37) -> 0 | AS37: =SUM(T37,Z37,N37) -> 0 | AU37: =AQ37-AS37 -> 0 | AW37: =IF(AZ37=0,"",_xlfn.RANK.EQ(AZ37,$AZ$31:$AZ$38,0)) | AZ37: =AN37*100+AU37*10+AQ37*1 -> 0
J38: =IF(J37="","",CHOOSE(2+(J37>N37)-(J37<N37),"●","△","○")) | P38: =IF(P37="","",CHOOSE(2+(P37>T37)-(P37<T37),"●","△","○")) | V38: =IF(V37="","",CHOOSE(2+(V37>Z37)-(V37<Z37),"●","△","○"))
B40: =組み合わせ!M31 -> ３番ピッチ
B41: =BO10 -> 4位リーグ | AH41: 勝 | AJ41: 分 | AL41: 負 | AN41: 勝ち点 | AQ41: 得点 | AS41: 失点 | AU41: 差 | AW41: 順位
B43: 1 | C43: =J41 -> 0 | R43: - | X43: - | AD43: - | AH43: =COUNTIF(P44:AG44,"○") -> 0 | AJ43: =COUNTIF(P44:AG44,"△") -> 0 | AL43: =COUNTIF(J44:AG44,"●") -> 0 | AN43: =AH43*3+AJ43*1 -> 0 | AQ43: =SUM(P43,V43,AB43) -> 0 | AS43: =SUM(T43,Z43,AF43) -> 0 | AU43: =AQ43-AS43 -> 0 | AW43: =IF(AZ43=0,"",_xlfn.RANK.EQ(AZ43,$AZ$43:$AZ$50,0)) | AZ43: =AN43*100+AU43*10+AQ43*1 -> 0
P44: =IF(P43="","",CHOOSE(2+(P43>T43)-(P43<T43),"●","△","○")) | V44: =IF(V43="","",CHOOSE(2+(V43>Z43)-(V43<Z43),"●","△","○")) | AB44: =IF(AB43="","",CHOOSE(2+(AB43>AF43)-(AB43<AF43),"●","△","○"))
B45: 2 | C45: =P41 -> 0 | J45: =IF(T43="","",T43) | L45: - | N45: =IF(P43="","",P43) | X45: - | AD45: - | AH45: =COUNTIF(J46:AG46,"○") -> 0 | AJ45: =COUNTIF(J46:AG46,"△") -> 0 | AL45: =COUNTIF(J46:AG46,"●") -> 0 | AN45: =AH45*3+AJ45*1 -> 0 | AQ45: =SUM(J45,V45,AB45) -> 0 | AS45: =SUM(N45,Z45,AF45) -> 0 | AU45: =AQ45-AS45 -> 0 | AW45: =IF(AZ45=0,"",_xlfn.RANK.EQ(AZ45,$AZ$43:$AZ$50,0)) | AZ45: =AN45*100+AU45*10+AQ45*1 -> 0
J46: =IF(J45="","",CHOOSE(2+(J45>N45)-(J45<N45),"●","△","○")) | V46: =IF(V45="","",CHOOSE(2+(V45>Z45)-(V45<Z45),"●","△","○")) | AB46: =IF(AB45="","",CHOOSE(2+(AB45>AF45)-(AB45<AF45),"●","△","○"))
...
